BEGIN:VCALENDAR
VERSION:2.0
PRODID:-//Edmonton Christian Schools - ECPv6.2.9//NONSGML v1.0//EN
CALSCALE:GREGORIAN
METHOD:PUBLISH
X-ORIGINAL-URL:https://www.edmchristian.org
X-WR-CALDESC:Events for Edmonton Christian Schools
REFRESH-INTERVAL;VALUE=DURATION:PT1H
X-Robots-Tag:noindex
X-PUBLISHED-TTL:PT1H
BEGIN:VTIMEZONE
TZID:America/Edmonton
BEGIN:DAYLIGHT
TZOFFSETFROM:-0700
TZOFFSETTO:-0600
TZNAME:MDT
DTSTART:20250309T090000
END:DAYLIGHT
BEGIN:STANDARD
TZOFFSETFROM:-0600
TZOFFSETTO:-0700
TZNAME:MST
DTSTART:20251102T080000
END:STANDARD
END:VTIMEZONE
BEGIN:VEVENT
DTSTART;VALUE=DATE:20250204
DTEND;VALUE=DATE:20250319
DTSTAMP:20260421T195653
CREATED:20241101T151840Z
LAST-MODIFIED:20250317T183839Z
UID:16562-1738627200-1742342399@www.edmchristian.org
SUMMARY:Information Sessions for Prospective Families (Various Dates)
DESCRIPTION:Attending this session is an important first step in the registration process. We want to ensure that ECS aligns with your family’s expectations\, as not all Christian schools are the same. This is a great opportunity to clarify any questions and understand how our mission and values resonate with your goals for education. \nLearn about our Christ-centered approach to education\, which aims to challenge students to play their role in God’s story. We’ll discuss our mission\, core values\, and unique program designed to support students’ academic\, spiritual\, and personal growth. You’ll also hear about the partnership between ECS families and the Edmonton Society for Christian Education (ESCE)\, which helps create a strong\, supportive community. \nReminder: Enrolment at ECS is not first-come\, first-served. Attending an information session is required before moving to Step 2 in the registration process. Regardless of whether you register with ECS on February 3rd or March 19th\, you will have the same opportunity for enrolment at ECS as all other newly registered students. \nAdditional Info:\nIf the session dates at one school don’t work for you\, you’re welcome to attend a session at the other school. While the locations differ\, the content will be the same. \nAll sessions will begin at 7:00 PM and will last approximately one hour\, with additional time for questions at the end. \n\n\nWest School: Kindergarten to Grade 9 (14345 – McQueen Road)\nNortheast School: Kindergarten to Grade 9 (5940 – 159 Avenue)\nHigh School: Grades 10 – 12 (14304 – 109 Avenue) *\n\n*The information session for high school families will be held inside the West School.\n\nSESSION SIGN UP FORMWest/High School (Held at West)\nThursday\, February 6\nMonday\, March 10\nTuesday\, March 18 – Virtual \nNortheast School\nTuesday\, February 4\nThursday\, March 13\nTuesday\, March 18 – Virtual \nVIRTUAL Session Details:\n\n\nVirtual (online) Information Session\nTues\, March 18th\n7:00 PM Start Time\nJoin the Google Meet using this link: https://meet.google.com/bgf-ybsc-feh\n\n\nWhat You’ll Receive:\n\nAt the virtual session\, a link will be shared for a PDF file with important documents. This will include: \n\nDocuments that summarize the information shared during the presentation.\nOur Partnership Agreement and Statement of Faith forms. These forms are for your review and will need to be returned after you receive confirmation of enrolment\, if space is available for your child(ren).\n\nAttendance Requirement:  \n\nOne parent/guardian is required to attend\, but both are welcome!\n \nAfter the Session:\n\n\nIf Edmonton Christian Schools is the right fit for your family\, proceed to registration. (Step 2)\nEnrolment at ECS is not first-come\, first-served. Regardless of whether you register on February 3rd or March 19th\, you will have the same opportunity for enrolment at ECS as all other newly registered students.\nThe deadline to register for ECS is March 19th at 4:00 PM. You will receive confirmation of enrolment by April 30th directly from the school at which you register\, if space is available for your child(ren).\n\n\nWe look forward to meeting you and helping you determine if Edmonton Christian Schools is the right fit for your family! \nBlessings\, \nThe Society office team \nFull School Registration Details
URL:https://www.edmchristian.org/event/information-session-for-prospective-families/
LOCATION:Alberta
ATTACH;FMTTYPE=image/png:https://www.edmchristian.org/wp-content/uploads/2024/11/info-session-event-header.png
END:VEVENT
BEGIN:VEVENT
DTSTART;TZID=America/Edmonton:20250204T180000
DTEND;TZID=America/Edmonton:20250204T200000
DTSTAMP:20260421T195653
CREATED:20241219T173216Z
LAST-MODIFIED:20241219T174728Z
UID:16667-1738692000-1738699200@www.edmchristian.org
SUMMARY:Northeast School Open House
DESCRIPTION:Our open house is an informal event that gives your child a chance to: \n-speak to students\, teachers\, and other school staff\n-learn about programs\, courses and extracurricular activities offered at the school\n-learn about registering for school\n(You may also be interested in our Virtual Tour.) \n\nIMPORTANT: Please also refer to our registration process.  \nThe first step before registering is to attend an Information Session.  This is not the same as the Open House. The information session will allow parents/guardians to learn more specifically about our Christian program\, our mission\, and the partnership and expectations between families and ECS\, allowing for families to ensure that ECS is a good fit for them. \nNote: There will be an Information Session at ECNS on the same evening as the Open House. Feel free to attend both if you’d like! \nPlease visit our Admissions page for full details and to register for an Information Session. 
URL:https://www.edmchristian.org/event/ecnsoh25/
LOCATION:Edmonton Christian Northeast School\, 5940 - 159 Avenue\, Edmonton\, AB\, T5Y 0J5\, Canada
CATEGORIES:Open House
ATTACH;FMTTYPE=image/png:https://www.edmchristian.org/wp-content/uploads/2024/12/open-house-NE-1-1.png
ORGANIZER;CN="Edmonton Christian Northeast School":MAILTO:ecsne@epsb.ca
END:VEVENT
BEGIN:VEVENT
DTSTART;VALUE=DATE:20250213
DTEND;VALUE=DATE:20250216
DTSTAMP:20260421T195653
CREATED:20250131T213747Z
LAST-MODIFIED:20250131T213747Z
UID:16714-1739404800-1739663999@www.edmchristian.org
SUMMARY:Arsenic and Old Lace - ECHS Drama Production
DESCRIPTION:It’s that time of year when talented Edmonton Christian High School students take the stage to bring us an unforgettable theatrical experience! This year\, ECHS Drama proudly presents “Arsenic and Old Lace” by Joseph Kesselring\, a black comedy filled with wit\, suspense\, and delightful surprises. \n\n\n\n\n\n\n\n\n\n\n\n\n\n\n\nShow Details: \n📅 February 13\, 14\, and 15\, 2025 \n⏰ Doors open at 6:30 PM | Show begins at 7:00 PM \n📍 Theatre Servus Credit Union\, La Cité Francophone – 8627 91 Street (rue Marie Anne Gaboury)\n\n\n\n\n\n\n\n\nTicket Purchase Options: \n\nfill out this online form\,\nemail: ticketsechsdrama@gmail.com\,\nor purchase at the door (subject to availability)\n\n🎟 Adults: $20 \n🎟 Students/Seniors: $15\n\n\n\n\n\n\n\n\n\n\n\n\n\n\n\n\n\n\n\n\n\n\n\n\n\n\n\n\n\n\n\n\n\n\n\n\n\n\nArsenic and Old Lace \nSet in a Victorian-era Brooklyn home\, the play revolves around two sweet elderly sisters\, Abby and Martha Brewster\, who make their own elderberry wine and care for the lonely and elderly in a loving\, yet peculiar way. Their nephew\, the bumbling yet endearing Mortimer Brewster\, finds himself caught in a whirlwind of family secrets\, murders\, and madness. \nGet ready for the perfect mix of laugh-out-loud humour mixed with suspense\, surprise\, and a dash of the macabre. Welcome to the Brewster family\, where you’re never sure who’s doing what to whom! \n\n\n\n\n\n\n\n\n\n\n\n\n\n\n\n\n\n\n\n\n\n\n\n\n\n\n\n\n\n\n\n\n\n\n\n\n\n\n\nEach year\, our drama team pours countless hours of effort\, creativity\, and passion into their production. Your attendance is more than just a ticket to a show; it’s a meaningful way to show support for our students\, staff\, and the arts at Edmonton Christian Schools. \nLet’s fill the theatre and cheer them on! \nWe can’t wait to see you there. \n\n\n\n\n\n\n\n\n\n\n\n\n\n\n\n\n\n\n\n\n\n\n\n\n\n\n\n\n\n\n\n\n\n\n\n\n\n\n\n\n\n\n\n\n\n\n\n\n\n\n\n\n\n\n\n\n\n\n\n\n\n\n\n\n\nThe Edmonton Society for Christian Education | 14304 109 Ave | Edmonton\, AB T5N 1H6 CA\n\n\n\n\n\n\nUnsubscribe | Update Profile | Constant Contact Data Notice
URL:https://www.edmchristian.org/event/arsenic-and-old-lace-echs-drama-production/
LOCATION:La Cite Francophone Theatre\, 8627 rue Marie Anne Gaboury (91 Street)\, Edmonton\, Alberta\, T6C 3N1\, Canada
ATTACH;FMTTYPE=image/png:https://www.edmchristian.org/wp-content/uploads/2025/01/website-of-hs-drama.png
ORGANIZER;CN="Edmonton Christian High School":MAILTO:ecshs@epsb.ca
END:VEVENT
BEGIN:VEVENT
DTSTART;TZID=America/Edmonton:20250219T190000
DTEND;TZID=America/Edmonton:20250219T200000
DTSTAMP:20260421T195654
CREATED:20241021T210820Z
LAST-MODIFIED:20250219T155500Z
UID:16504-1739991600-1739995200@www.edmchristian.org
SUMMARY:CANCELLED - TfT: Culture of Belonging - Learning Together Series
DESCRIPTION:TfT: Culture of Belonging \nHow can parents\, teachers\, and students each play a role in building a thriving learning community? What evidence of learning can we see\, and what contributions can we make? In this session\, we’ll explore how Teaching for Transformation (TfT) takes shape in the classroom and the ways parents can engage with and support their child’s learning journey. \nGain insight into the visible signs of deep learning\, discover practical tools to better understand TfT in action\, and strengthen the partnership between home and school as we work together to cultivate faith-filled\, meaningful learning experiences.
URL:https://www.edmchristian.org/event/culture-of-belonging/
LOCATION:Edmonton Christian High School\, 14304-109 Ave\, Edmonton\, Alberta (CA)\, T5N 1H6
ATTACH;FMTTYPE=image/png:https://www.edmchristian.org/wp-content/uploads/2024/10/TfT-Culture-of-Belonging-learning-together-series-1-1.png
END:VEVENT
END:VCALENDAR