BEGIN:VCALENDAR
VERSION:2.0
PRODID:-//Edmonton Christian Schools - ECPv6.2.9//NONSGML v1.0//EN
CALSCALE:GREGORIAN
METHOD:PUBLISH
X-ORIGINAL-URL:https://www.edmchristian.org
X-WR-CALDESC:Events for Edmonton Christian Schools
REFRESH-INTERVAL;VALUE=DURATION:PT1H
X-Robots-Tag:noindex
X-PUBLISHED-TTL:PT1H
BEGIN:VTIMEZONE
TZID:America/Edmonton
BEGIN:DAYLIGHT
TZOFFSETFROM:-0700
TZOFFSETTO:-0600
TZNAME:MDT
DTSTART:20250309T090000
END:DAYLIGHT
BEGIN:STANDARD
TZOFFSETFROM:-0600
TZOFFSETTO:-0700
TZNAME:MST
DTSTART:20251102T080000
END:STANDARD
END:VTIMEZONE
BEGIN:VEVENT
DTSTART;TZID=America/Edmonton:20250120T183000
DTEND;TZID=America/Edmonton:20250120T193000
DTSTAMP:20260421T182326
CREATED:20241021T202845Z
LAST-MODIFIED:20250106T160910Z
UID:16492-1737397800-1737401400@www.edmchristian.org
SUMMARY:Digital Citizenship and Online Safety: Learning Together Series
DESCRIPTION:At the Digital Citizenship and Online Safety event\, Constable Rob Farbin will share his extensive knowledge to equip parents with tools and insights to help their children navigate social media responsibly and develop healthy\, safe online habits at home. \nConstable Farbin\, an experienced Edmonton Police Service officer serving since 2005\, is passionate about fostering safe\, supportive environments. He offers practical guidance on critical topics\, including online safety\, healthy relationships\, and more\, empowering parents to support their children’s digital well-being. \n\nJanuary 20\, 2025 @ 6:30 pm – 7:30 pm\nECNS (5940 159 Ave)\n\nView the other events in our in our Learning Together Series!  \nREGISTER HERE
URL:https://www.edmchristian.org/event/digitalcitizenship/
LOCATION:Edmonton Christian Northeast School\, 5940 - 159 Avenue\, Edmonton\, AB\, T5Y 0J5\, Canada
ATTACH;FMTTYPE=image/png:https://www.edmchristian.org/wp-content/uploads/2024/10/Digital-Citizenship-and-Online-Safety-learning-together-series-2.png
END:VEVENT
BEGIN:VEVENT
DTSTART;TZID=America/Edmonton:20250130T180000
DTEND;TZID=America/Edmonton:20250130T190000
DTSTAMP:20260421T182326
CREATED:20241021T205934Z
LAST-MODIFIED:20250121T153429Z
UID:16499-1738260000-1738263600@www.edmchristian.org
SUMMARY:Family Worship Night - Learning Together Series
DESCRIPTION:Family Worship Night \nJoin us for a special evening of praise and worship as we come together for Family Worship Night. \nThis evening is an opportunity to build our sense of belonging and community as we lift our voices in praise. \nDoors open at 5:45 PM. \nWe look forward to worshipping together as one big family!
URL:https://www.edmchristian.org/event/worshipnight2025/
LOCATION:Edmonton Christian West School\, 14345 McQueen Rd NW\, Edmonton\, AB\, T5N3L5\, Canada
ATTACH;FMTTYPE=image/png:https://www.edmchristian.org/wp-content/uploads/2024/10/Worship-Night-learning-together-series-1-1.png
END:VEVENT
END:VCALENDAR