BEGIN:VCALENDAR
VERSION:2.0
PRODID:-//Edmonton Christian Schools - ECPv6.2.9//NONSGML v1.0//EN
CALSCALE:GREGORIAN
METHOD:PUBLISH
X-WR-CALNAME:Edmonton Christian Schools
X-ORIGINAL-URL:https://www.edmchristian.org
X-WR-CALDESC:Events for Edmonton Christian Schools
REFRESH-INTERVAL;VALUE=DURATION:PT1H
X-Robots-Tag:noindex
X-PUBLISHED-TTL:PT1H
BEGIN:VTIMEZONE
TZID:America/Edmonton
BEGIN:DAYLIGHT
TZOFFSETFROM:-0700
TZOFFSETTO:-0600
TZNAME:MDT
DTSTART:20250309T090000
END:DAYLIGHT
BEGIN:STANDARD
TZOFFSETFROM:-0600
TZOFFSETTO:-0700
TZNAME:MST
DTSTART:20251102T080000
END:STANDARD
END:VTIMEZONE
BEGIN:VEVENT
DTSTART;TZID=America/Edmonton:20250603T190000
DTEND;TZID=America/Edmonton:20250603T220000
DTSTAMP:20260422T041538
CREATED:20250423T171038Z
LAST-MODIFIED:20250530T181623Z
UID:16822-1748977200-1748988000@www.edmchristian.org
SUMMARY:ESCE Annual General Meeting 2025
DESCRIPTION:REGISTER TO PARTICIPATE\n\n\n\nThe AGM package is now available. Please take a moment to review it before the meeting. \nREAD THE AGM PACKAGE \nIf you are attending in person and would like a paper copy\, please print and bring your own. We will not be providing printed copies at the meeting. You can also view the package on your phone or device during the AGM. \n\n\n\n\n\n\n\nThe Special Resolution Meeting and Annual General Meeting (AGM) of the Edmonton Society for Christian Education (ESCE) will be held on Tuesday\, June 3\, 2025\, at Edmonton Christian Northeast School. The AGM will begin immediately following the Special Resolution Meeting\, which starts at 7:00 PM. (Doors will open at 5:30 PM) \nEdmonton Christian Northeast School \n5940 159 Avenue NW \nEdmonton\, AB T5Y 0J5\n\n\n\nESCE Membership \n\nMembership is required to vote at the ESCE meetings.\nOnline membership forms are now available. No need to print or return paper copies!\nReactivate your membership\, or begin a new one today!\n\nTwo Important Meetings on June 3\, 2025\, at ECNS (5940 159Ave) \nDoors at 5:30 PM. We begin at 7:00 PM \nMeeting One: Special Resolution Meeting (SRM) \n\nA member-initiated meeting to vote on their proposed membership bylaw revision.\nWill be held immediately before the AGM.\n\nMeeting Two: Annual General Meeting (AGM) \n\nOur regular yearly meeting to elect trustees\, approve the budget\, and hear updates.
URL:https://www.edmchristian.org/event/agm2025/
LOCATION:Edmonton Christian Northeast School\, 5940 - 159 Avenue\, Edmonton\, AB\, T5Y 0J5\, Canada
ATTACH;FMTTYPE=image/png:https://www.edmchristian.org/wp-content/uploads/2025/04/ESCE.png
END:VEVENT
END:VCALENDAR