BEGIN:VCALENDAR
VERSION:2.0
PRODID:-//Edmonton Christian Schools - ECPv6.2.9//NONSGML v1.0//EN
CALSCALE:GREGORIAN
METHOD:PUBLISH
X-ORIGINAL-URL:https://www.edmchristian.org
X-WR-CALDESC:Events for Edmonton Christian Schools
REFRESH-INTERVAL;VALUE=DURATION:PT1H
X-Robots-Tag:noindex
X-PUBLISHED-TTL:PT1H
BEGIN:VTIMEZONE
TZID:America/Edmonton
BEGIN:DAYLIGHT
TZOFFSETFROM:-0700
TZOFFSETTO:-0600
TZNAME:MDT
DTSTART:20250309T090000
END:DAYLIGHT
BEGIN:STANDARD
TZOFFSETFROM:-0600
TZOFFSETTO:-0700
TZNAME:MST
DTSTART:20251102T080000
END:STANDARD
END:VTIMEZONE
BEGIN:VEVENT
DTSTART;TZID=America/Edmonton:20250524T160000
DTEND;TZID=America/Edmonton:20250524T180000
DTSTAMP:20260422T023832
CREATED:20250410T194618Z
LAST-MODIFIED:20250410T194618Z
UID:16808-1748102400-1748109600@www.edmchristian.org
SUMMARY:Free Family Movie Night
DESCRIPTION:FREE Family Movie Night – Featuring Dog Man \nWe’re rolling out the red carpet for our very first Movie Night ever — and everyone is invited! Families from Edmonton Christian West\, Northeast\, and High School are welcome to join us for an evening of laughs\, food and fun as we watch the hilarious adventures of Dog Man\, inspired by Dav Pilkey’s bestselling book series. \n Date: May 24\, 2025\n Time: 4-6pm\, Door open at 4pm\, movie starts at 4:30pm\n Location: Edmonton Christian West School Gym \nCome dressed comfy\, bring the whole family\, and enjoy: \n Light snacks and drinks for sale (bring cash) \n Welcome to bring your own food\, drinks\, and picnic blankets \n Family photo stations to capture the fun \n A chance to connect with other ECS families! \n IMPORTANT: Pre-order tickets now — limited space available!\n No tickets will be available at the door.\n Reserve FREE tickets online: tinyurl.com/MovieNightECS\n Pre-order deadline: May 16 2025 \nQuestions: Email movienightecs@gmail.com \nLet’s make Edmonton Christian Schools’ first-ever Movie Night a memory to treasure — see you there\, Dog Man fans!
URL:https://www.edmchristian.org/event/free-family-movie-night/
LOCATION:Edmonton Christian West School\, 14345 McQueen Rd NW\, Edmonton\, AB\, T5N3L5\, Canada
ATTACH;FMTTYPE=image/jpeg:https://www.edmchristian.org/wp-content/uploads/2025/04/Copy-of-Flyer-for-Movie-Night-2-Dog-Man-Presentation.jpg
ORGANIZER;CN="Edmonton Christian West School":MAILTO:ecswest@epsb.ca
END:VEVENT
END:VCALENDAR