BEGIN:VCALENDAR
VERSION:2.0
PRODID:-//Edmonton Christian Schools - ECPv6.2.9//NONSGML v1.0//EN
CALSCALE:GREGORIAN
METHOD:PUBLISH
X-WR-CALNAME:Edmonton Christian Schools
X-ORIGINAL-URL:https://www.edmchristian.org
X-WR-CALDESC:Events for Edmonton Christian Schools
REFRESH-INTERVAL;VALUE=DURATION:PT1H
X-Robots-Tag:noindex
X-PUBLISHED-TTL:PT1H
BEGIN:VTIMEZONE
TZID:America/Edmonton
BEGIN:DAYLIGHT
TZOFFSETFROM:-0700
TZOFFSETTO:-0600
TZNAME:MDT
DTSTART:20250309T090000
END:DAYLIGHT
BEGIN:STANDARD
TZOFFSETFROM:-0600
TZOFFSETTO:-0700
TZNAME:MST
DTSTART:20251102T080000
END:STANDARD
END:VTIMEZONE
BEGIN:VEVENT
DTSTART;TZID=America/Edmonton:20250515T190000
DTEND;TZID=America/Edmonton:20250515T210000
DTSTAMP:20260422T023658
CREATED:20241021T213634Z
LAST-MODIFIED:20241021T213634Z
UID:16524-1747335600-1747342800@www.edmchristian.org
SUMMARY:Passion Project Evening - Learning Together Series
DESCRIPTION:Join us for an inspiring evening where the Grade 12 students of Edmonton Christian High School showcase their Passion Projects\, a culmination of months of hard work\, personal exploration\, and service. This event offers an opportunity to have deep\, meaningful conversations with our soon-to-be graduates as they share the stories behind their projects\, which reflect their unique interests\, creativity\, and service in God’s story. \nThe Passion Projects allow students to ask questions\, pursue their passions\, and create something meaningful. From mission trips and church service to interests like sports\, animal welfare\, and social work\, each project is a reflection of the students’ journey of self-discovery and their role in God’s world. \nThe evening promises to be more than just a showcase—it’s a chance to see how these students have stepped outside their comfort zones\, discovered new passions\, and learned valuable life lessons. Their reflections emphasize how the process has shaped their faith\, deepened their understanding of God’s will\, and influenced their future paths. \nCome and celebrate this special event with us\, as we witness the creativity\, compassion\, and faith of our students in action. \nLet’s come together to support and celebrate our graduates as they share their passions and inspire us all!
URL:https://www.edmchristian.org/event/passion-project-evening-learning-together-series/
LOCATION:Edmonton Christian High School\, 14304-109 Ave\, Edmonton\, Alberta (CA)\, T5N 1H6
ATTACH;FMTTYPE=image/png:https://www.edmchristian.org/wp-content/uploads/2024/10/Passion-Project-learning-together-series.png
ORGANIZER;CN="Edmonton Christian High School":MAILTO:ecshs@epsb.ca
END:VEVENT
END:VCALENDAR